BEGIN:VCALENDAR
VERSION:2.0
PRODID:-//eventon.com NONSGML v1.0//EN
CALSCALE:GREGORIAN
METHOD:PUBLISH
BEGIN:VEVENT
UID:69e88834e12de
DTSTAMP:20260422T083500Z
DTSTART:20260108T180000Z
DTEND:20260108T225900Z
LOCATION:Maritim Hotel Heumarkt 20
SUMMARY:Generalkorpsappell
DESCRIPTION:nur für geladene Gäste\nhttps://www.appsolutjeck.de/events/ge
 neralkorpsappell/
URL:https://www.appsolutjeck.de/events/generalkorpsappell/
END:VEVENT
END:VCALENDAR