BEGIN:VCALENDAR
VERSION:2.0
PRODID:-//eventon.com NONSGML v1.0//EN
CALSCALE:GREGORIAN
METHOD:PUBLISH
BEGIN:VEVENT
UID:69e88715ddca9
DTSTAMP:20260422T083013Z
DTSTART:20260129T180000Z
DTEND:20260129T225900Z
LOCATION:Koelnmesse\,  Kristallsaal CC-West Messeplatz 1
SUMMARY:Kostümsitzung
DESCRIPTION:Kostümsitzung\nhttps://www.appsolutjeck.de/events/kostuemsitzu
 ng-10/
URL:https://www.appsolutjeck.de/events/kostuemsitzung-10/
END:VEVENT
END:VCALENDAR