BEGIN:VCALENDAR
VERSION:2.0
PRODID:-//eventon.com NONSGML v1.0//EN
CALSCALE:GREGORIAN
METHOD:PUBLISH
BEGIN:VEVENT
UID:69ea44522e08c
DTSTAMP:20260423T160954Z
DTSTART:20260207T200000Z
DTEND:20260207T225900Z
LOCATION:Wartesaal am Dom Johannisstraße 11
SUMMARY:Tanz der Vampire
DESCRIPTION:Tanz der Vampire\nhttps://www.appsolutjeck.de/events/tanz-der-v
 ampire/
URL:https://www.appsolutjeck.de/events/tanz-der-vampire/
END:VEVENT
END:VCALENDAR