BEGIN:VCALENDAR
VERSION:2.0
PRODID:-//eventon.com NONSGML v1.0//EN
CALSCALE:GREGORIAN
METHOD:PUBLISH
BEGIN:VEVENT
UID:69e5f4a084250
DTSTAMP:20260420T094048Z
DTSTART:20260123T183000Z
DTEND:20260123T225900Z
LOCATION:Hänneschen Theater Eisenmarkt 2-4
SUMMARY:Puppensitzung 2026
DESCRIPTION:Puppensitzung 2026\nhttps://www.appsolutjeck.de/events/puppensi
 tzung-2025-11/
URL:https://www.appsolutjeck.de/events/puppensitzung-2025-11/
END:VEVENT
END:VCALENDAR