BEGIN:VCALENDAR
VERSION:2.0
PRODID:-//eventon.com NONSGML v1.0//EN
CALSCALE:GREGORIAN
METHOD:PUBLISH
BEGIN:VEVENT
UID:69e5f310a0e5d
DTSTAMP:20260420T093408Z
DTSTART:20260111T133000Z
DTEND:20260111T225900Z
LOCATION:Hotel Dorint An der Messe Deutz-Mülheimer Str. 22-24
SUMMARY:Traditionsflug "Fastelovend wie fröher"
DESCRIPTION:Tickets 55 EURO\nhttps://www.appsolutjeck.de/events/fluesterflu
 g/
URL:https://www.appsolutjeck.de/events/fluesterflug/
END:VEVENT
END:VCALENDAR