BEGIN:VCALENDAR
VERSION:2.0
PRODID:-//eventon.com NONSGML v1.0//EN
CALSCALE:GREGORIAN
METHOD:PUBLISH
BEGIN:VEVENT
UID:69e891891b427
DTSTAMP:20260422T091449Z
DTSTART:20261111T090000Z
DTEND:20261111T225900Z
LOCATION:Quater 1 Quatermarkt 1
SUMMARY:Elfter im Elften
DESCRIPTION:Tickets ab 25\, 00 €\nhttps://www.appsolutjeck.de/events/elft
 er-im-elften/
URL:https://www.appsolutjeck.de/events/elfter-im-elften/
END:VEVENT
END:VCALENDAR