BEGIN:VCALENDAR
VERSION:2.0
PRODID:-//eventon.com NONSGML v1.0//EN
CALSCALE:GREGORIAN
METHOD:PUBLISH
BEGIN:VEVENT
UID:69e5efab787e2
DTSTAMP:20260420T091939Z
DTSTART:20250215T140000Z
DTEND:20250215T225900Z
LOCATION:Domforum Domkloster 3
SUMMARY:Loss mer singe för Pänz
DESCRIPTION:Loss mer singe för Pänz\nhttps://www.appsolutjeck.de/events/l
 oss-mer-singe-foer-paenz-2/
URL:https://www.appsolutjeck.de/events/loss-mer-singe-foer-paenz-2/
END:VEVENT
END:VCALENDAR