BEGIN:VCALENDAR
VERSION:2.0
PRODID:-//eventon.com NONSGML v1.0//EN
CALSCALE:GREGORIAN
METHOD:PUBLISH
BEGIN:VEVENT
UID:69e5eec2d78c6
DTSTAMP:20260420T091546Z
DTSTART:20260117T190000Z
DTEND:20260117T225900Z
LOCATION:Bürgervereinshaus Worringen St. Tönnis-Str.68
SUMMARY:Kostümsitzung
DESCRIPTION:Kostümsitzung\nhttps://www.appsolutjeck.de/events/kostuemsitzu
 ng-27/
URL:https://www.appsolutjeck.de/events/kostuemsitzung-27/
END:VEVENT
END:VCALENDAR