BEGIN:VCALENDAR
VERSION:2.0
PRODID:-//eventon.com NONSGML v1.0//EN
CALSCALE:GREGORIAN
METHOD:PUBLISH
BEGIN:VEVENT
UID:69e5fbeb536a8
DTSTAMP:20260420T101155Z
DTSTART:20251111T090000Z
DTEND:20251111T225900Z
LOCATION:Porz Markt\,  51143 Köln
SUMMARY:Sessionseröffnung Porzer Karneval
DESCRIPTION:Sessionseröffnung Porzer Karneval\nhttps://www.appsolutjeck.de
 /events/sessionseroeffnung-porzer-karneval/
URL:https://www.appsolutjeck.de/events/sessionseroeffnung-porzer-karneval/
END:VEVENT
END:VCALENDAR