BEGIN:VCALENDAR
VERSION:2.0
PRODID:-//eventon.com NONSGML v1.0//EN
CALSCALE:GREGORIAN
METHOD:PUBLISH
BEGIN:VEVENT
UID:69e61a5f178eb
DTSTAMP:20260420T122151Z
DTSTART:20260205T183000Z
DTEND:20260205T225900Z
LOCATION:Basil&#039;s Bülowstr. 21
SUMMARY:KARNEVALS ANSINGEN 26
DESCRIPTION:KARNEVALS ANSINGEN 26\nhttps://www.appsolutjeck.de/events/karne
 vals-ansingen-26/
URL:https://www.appsolutjeck.de/events/karnevals-ansingen-26/
END:VEVENT
END:VCALENDAR