BEGIN:VCALENDAR
VERSION:2.0
PRODID:-//eventon.com NONSGML v1.0//EN
CALSCALE:GREGORIAN
METHOD:PUBLISH
BEGIN:VEVENT
UID:69e9db0c2597a
DTSTAMP:20260423T084044Z
DTSTART:20260515T110000Z
DTEND:20260515T215900Z
LOCATION:Rheinuferpromenade Konrad-Adenauer-Ufer
SUMMARY:Frühlingsfest auf der Rheinuferpromenade
DESCRIPTION:Eintritt frei!\nhttps://www.appsolutjeck.de/events/fruehlingsfe
 st-auf-der-rheinuferpromenade-2/
URL:https://www.appsolutjeck.de/events/fruehlingsfest-auf-der-rheinuferpromenade-2/
END:VEVENT
END:VCALENDAR